BEGIN:VCALENDAR
VERSION:2.0
PRODID:-//Youthsayers - ECPv6.15.20//NONSGML v1.0//EN
CALSCALE:GREGORIAN
METHOD:PUBLISH
X-WR-CALNAME:Youthsayers
X-ORIGINAL-URL:https://youthsayers.net
X-WR-CALDESC:Events for Youthsayers
REFRESH-INTERVAL;VALUE=DURATION:PT1H
X-Robots-Tag:noindex
X-PUBLISHED-TTL:PT1H
BEGIN:VTIMEZONE
TZID:Europe/London
BEGIN:DAYLIGHT
TZOFFSETFROM:+0000
TZOFFSETTO:+0100
TZNAME:BST
DTSTART:20230326T010000
END:DAYLIGHT
BEGIN:STANDARD
TZOFFSETFROM:+0100
TZOFFSETTO:+0000
TZNAME:GMT
DTSTART:20231029T010000
END:STANDARD
BEGIN:DAYLIGHT
TZOFFSETFROM:+0000
TZOFFSETTO:+0100
TZNAME:BST
DTSTART:20240331T010000
END:DAYLIGHT
BEGIN:STANDARD
TZOFFSETFROM:+0100
TZOFFSETTO:+0000
TZNAME:GMT
DTSTART:20241027T010000
END:STANDARD
BEGIN:DAYLIGHT
TZOFFSETFROM:+0000
TZOFFSETTO:+0100
TZNAME:BST
DTSTART:20250330T010000
END:DAYLIGHT
BEGIN:STANDARD
TZOFFSETFROM:+0100
TZOFFSETTO:+0000
TZNAME:GMT
DTSTART:20251026T010000
END:STANDARD
END:VTIMEZONE
BEGIN:VEVENT
DTSTART;TZID=Europe/London:20240705T190000
DTEND;TZID=Europe/London:20240705T190000
DTSTAMP:20260422T183328
CREATED:20240515T084449Z
LAST-MODIFIED:20240515T084449Z
UID:3360-1720206000-1720206000@youthsayers.net
SUMMARY:Music For Youth National Festival - Birmingham CBSO
DESCRIPTION:We are pleased to be performing at Music For Youth National Festival Showcase on Friday July 5th – in the Jennifer Blackwell Hall 7pm \nMusic for Youth\nCBSO Centre\nBerkley Street\nBirmingham\nB1 2LF
URL:https://youthsayers.net/event/music-for-youth-national-festival-birmingham-cbso/
END:VEVENT
END:VCALENDAR