BEGIN:VCALENDAR
VERSION:2.0
PRODID:-//Youthsayers - ECPv6.15.20//NONSGML v1.0//EN
CALSCALE:GREGORIAN
METHOD:PUBLISH
X-WR-CALNAME:Youthsayers
X-ORIGINAL-URL:https://youthsayers.net
X-WR-CALDESC:Events for Youthsayers
REFRESH-INTERVAL;VALUE=DURATION:PT1H
X-Robots-Tag:noindex
X-PUBLISHED-TTL:PT1H
BEGIN:VTIMEZONE
TZID:Europe/London
BEGIN:DAYLIGHT
TZOFFSETFROM:+0000
TZOFFSETTO:+0100
TZNAME:BST
DTSTART:20230326T010000
END:DAYLIGHT
BEGIN:STANDARD
TZOFFSETFROM:+0100
TZOFFSETTO:+0000
TZNAME:GMT
DTSTART:20231029T010000
END:STANDARD
BEGIN:DAYLIGHT
TZOFFSETFROM:+0000
TZOFFSETTO:+0100
TZNAME:BST
DTSTART:20240331T010000
END:DAYLIGHT
BEGIN:STANDARD
TZOFFSETFROM:+0100
TZOFFSETTO:+0000
TZNAME:GMT
DTSTART:20241027T010000
END:STANDARD
BEGIN:DAYLIGHT
TZOFFSETFROM:+0000
TZOFFSETTO:+0100
TZNAME:BST
DTSTART:20250330T010000
END:DAYLIGHT
BEGIN:STANDARD
TZOFFSETFROM:+0100
TZOFFSETTO:+0000
TZNAME:GMT
DTSTART:20251026T010000
END:STANDARD
END:VTIMEZONE
BEGIN:VEVENT
DTSTART;TZID=Europe/London:20240730T110000
DTEND;TZID=Europe/London:20240802T160000
DTSTAMP:20260422T164313
CREATED:20240522T124440Z
LAST-MODIFIED:20240522T130738Z
UID:3369-1722337200-1722614400@youthsayers.net
SUMMARY:Free Holiday Course July 30th to August 2nd
DESCRIPTION:Aged 14 to 18 and want to take part in Youthsayers ?> \nJoin is ay the Portico Gallery in West Norwood SE27 from 11am to 3pm .You  need to have started learning an instrument at home\, school or elsewhere \n  \nYou don’t need to be any specific level\, just open to learning \,\n\nAny questions or want to register ?\n\nemail us at : youthsayers@gmail.com 
URL:https://youthsayers.net/event/free-holiday-course-july-30th-to-august-2nd/
LOCATION:The Portico\, 23a Knights Hill\, London\, SE27 0HS\, United Kingdom
ATTACH;FMTTYPE=image/jpeg:https://youthsayers.net/wp-content/uploads/2024/05/Copy-of-POSTER-V2-VECTOR.ai-3-1.jpg
END:VEVENT
END:VCALENDAR