BEGIN:VCALENDAR
VERSION:2.0
PRODID:-//Youthsayers - ECPv6.15.20//NONSGML v1.0//EN
CALSCALE:GREGORIAN
METHOD:PUBLISH
X-ORIGINAL-URL:https://youthsayers.net
X-WR-CALDESC:Events for Youthsayers
REFRESH-INTERVAL;VALUE=DURATION:PT1H
X-Robots-Tag:noindex
X-PUBLISHED-TTL:PT1H
BEGIN:VTIMEZONE
TZID:Europe/London
BEGIN:DAYLIGHT
TZOFFSETFROM:+0000
TZOFFSETTO:+0100
TZNAME:BST
DTSTART:20230326T010000
END:DAYLIGHT
BEGIN:STANDARD
TZOFFSETFROM:+0100
TZOFFSETTO:+0000
TZNAME:GMT
DTSTART:20231029T010000
END:STANDARD
BEGIN:DAYLIGHT
TZOFFSETFROM:+0000
TZOFFSETTO:+0100
TZNAME:BST
DTSTART:20240331T010000
END:DAYLIGHT
BEGIN:STANDARD
TZOFFSETFROM:+0100
TZOFFSETTO:+0000
TZNAME:GMT
DTSTART:20241027T010000
END:STANDARD
BEGIN:DAYLIGHT
TZOFFSETFROM:+0000
TZOFFSETTO:+0100
TZNAME:BST
DTSTART:20250330T010000
END:DAYLIGHT
BEGIN:STANDARD
TZOFFSETFROM:+0100
TZOFFSETTO:+0000
TZNAME:GMT
DTSTART:20251026T010000
END:STANDARD
END:VTIMEZONE
BEGIN:VEVENT
DTSTART;TZID=Europe/London:20241208T130000
DTEND;TZID=Europe/London:20241208T133000
DTSTAMP:20260425T193204
CREATED:20241126T141539Z
LAST-MODIFIED:20241126T142835Z
UID:4130-1733662800-1733664600@youthsayers.net
SUMMARY:Younger Youthsayers at Streatham Rookery Christmas Market 8th December
DESCRIPTION:On Sunday 8th at The Rookery \, Streatham Common \nYounger Youthsayers are performing at 1pm.
URL:https://youthsayers.net/event/younger-youthsayers-at-streatham-rookery-christmas-market-8th-december/
CATEGORIES:Fundraiser,Gigs,Young Youthsayers
ATTACH;FMTTYPE=image/jpeg:https://youthsayers.net/wp-content/uploads/2024/11/PHOTO-2024-11-21-12-46-29.jpg
END:VEVENT
END:VCALENDAR