BEGIN:VCALENDAR
VERSION:2.0
PRODID:-//Youthsayers - ECPv6.15.20//NONSGML v1.0//EN
CALSCALE:GREGORIAN
METHOD:PUBLISH
X-ORIGINAL-URL:https://youthsayers.net
X-WR-CALDESC:Events for Youthsayers
REFRESH-INTERVAL;VALUE=DURATION:PT1H
X-Robots-Tag:noindex
X-PUBLISHED-TTL:PT1H
BEGIN:VTIMEZONE
TZID:Europe/London
BEGIN:DAYLIGHT
TZOFFSETFROM:+0000
TZOFFSETTO:+0100
TZNAME:BST
DTSTART:20220327T010000
END:DAYLIGHT
BEGIN:STANDARD
TZOFFSETFROM:+0100
TZOFFSETTO:+0000
TZNAME:GMT
DTSTART:20221030T010000
END:STANDARD
BEGIN:DAYLIGHT
TZOFFSETFROM:+0000
TZOFFSETTO:+0100
TZNAME:BST
DTSTART:20230326T010000
END:DAYLIGHT
BEGIN:STANDARD
TZOFFSETFROM:+0100
TZOFFSETTO:+0000
TZNAME:GMT
DTSTART:20231029T010000
END:STANDARD
BEGIN:DAYLIGHT
TZOFFSETFROM:+0000
TZOFFSETTO:+0100
TZNAME:BST
DTSTART:20240331T010000
END:DAYLIGHT
BEGIN:STANDARD
TZOFFSETFROM:+0100
TZOFFSETTO:+0000
TZNAME:GMT
DTSTART:20241027T010000
END:STANDARD
END:VTIMEZONE
BEGIN:VEVENT
DTSTART;TZID=Europe/London:20231021T120000
DTEND;TZID=Europe/London:20231021T133000
DTSTAMP:20260423T073449
CREATED:20231012T121826Z
LAST-MODIFIED:20231012T123243Z
UID:3155-1697889600-1697895000@youthsayers.net
SUMMARY:Younger Youthsayers Music – Band Workshop for Young People
DESCRIPTION:Are you aged between 10 – 16 years?\nWould you like to play a musical instrument – and play great music as part of a group?\n\n\n\nJoin our YouthSayers band workshop\, designed to engage young people in exciting music and ensemble work. \nUsing Jazz\, Afrobeat and Reggae as a basis for learning\, we are creating opportunities for young people (10-16 years) with a keen interest in music performance and ensemble playing. \nWe aim to support the young people we work as they grow as people\, and help them maintain a positive outlook to tackle the challenges that life presents. \nSuitable for age 10 – 16\nAbility level: Beginners and all stages welcome \nFREE \nSpaces are limited so SIGN UP HERE to reserve your place. \nOrganisers: St Margaret Hub\, Streatham Hill – in partnership with YouthSayers.
URL:https://youthsayers.net/event/younger-youthsayers-music-band-workshop-for-young-people/
LOCATION:Streatham Space Project\, Sternhold Avenue\, Streatham Hill\, London\, SW2 4PA
CATEGORIES:Workshops
ATTACH;FMTTYPE=image/jpeg:https://youthsayers.net/wp-content/uploads/2023/10/Youthsayers-Streatham-Festival-workshop.jpg
END:VEVENT
END:VCALENDAR