BEGIN:VCALENDAR
VERSION:2.0
PRODID:-//Youthsayers - ECPv6.15.20//NONSGML v1.0//EN
CALSCALE:GREGORIAN
METHOD:PUBLISH
X-WR-CALNAME:Youthsayers
X-ORIGINAL-URL:https://youthsayers.net
X-WR-CALDESC:Events for Youthsayers
REFRESH-INTERVAL;VALUE=DURATION:PT1H
X-Robots-Tag:noindex
X-PUBLISHED-TTL:PT1H
BEGIN:VTIMEZONE
TZID:Europe/London
BEGIN:DAYLIGHT
TZOFFSETFROM:+0000
TZOFFSETTO:+0100
TZNAME:BST
DTSTART:20230326T010000
END:DAYLIGHT
BEGIN:STANDARD
TZOFFSETFROM:+0100
TZOFFSETTO:+0000
TZNAME:GMT
DTSTART:20231029T010000
END:STANDARD
BEGIN:DAYLIGHT
TZOFFSETFROM:+0000
TZOFFSETTO:+0100
TZNAME:BST
DTSTART:20240331T010000
END:DAYLIGHT
BEGIN:STANDARD
TZOFFSETFROM:+0100
TZOFFSETTO:+0000
TZNAME:GMT
DTSTART:20241027T010000
END:STANDARD
BEGIN:DAYLIGHT
TZOFFSETFROM:+0000
TZOFFSETTO:+0100
TZNAME:BST
DTSTART:20250330T010000
END:DAYLIGHT
BEGIN:STANDARD
TZOFFSETFROM:+0100
TZOFFSETTO:+0000
TZNAME:GMT
DTSTART:20251026T010000
END:STANDARD
END:VTIMEZONE
BEGIN:VEVENT
DTSTART;VALUE=DATE:20241011
DTEND;VALUE=DATE:20241013
DTSTAMP:20260422T115408
CREATED:20241008T160814Z
LAST-MODIFIED:20241008T161149Z
UID:3492-1728604800-1728777599@youthsayers.net
SUMMARY:Youthsayers and Jack Drum Arts at Bishop Auckland Town Hall
DESCRIPTION:We are working with Jack Drum Arts in Crooke and Bishop Auckland Co\,. Durham on 11th and 12th Oct \nSee us play at Bishop Auckland Town Hall 7pm 12th Oct \nBuy tickets
URL:https://youthsayers.net/event/https-bishopaucklandtownhall-org-uk-bishoppost-dont-blame-the-youth/
LOCATION:Bishop Auckland Town Hall
CATEGORIES:Gigs
ATTACH;FMTTYPE=image/jpeg:https://youthsayers.net/wp-content/uploads/2024/10/Copy-of-POSTER-V2-VECTOR.ai_.jpg
END:VEVENT
BEGIN:VEVENT
DTSTART;TZID=Europe/London:20241020T160000
DTEND;TZID=Europe/London:20241020T180000
DTSTAMP:20260422T115408
CREATED:20241002T164425Z
LAST-MODIFIED:20241002T165005Z
UID:3476-1729440000-1729447200@youthsayers.net
SUMMARY:Youthsayers at The Menhuin Hall on 20th Oct 2024
DESCRIPTION:Come and see us perform at the beautiful Menhuin Hall – we will be onstage at 4pm\nWe are looking forward to playing in this amazing venue – the event is supported by Mole Valley Arts. \nStandard Price: £20\, students half price \nRunning time: 120 minutes \nBuy tickets
URL:https://youthsayers.net/event/youthsayers-at-the-menhuin-hall-on-20th-oct-2024/
LOCATION:The Menuhin Hall\, Cobham Road\, Stoke D’Abernon\, Surrey\, KT11 3QQ
CATEGORIES:Gigs
ATTACH;FMTTYPE=image/jpeg:https://youthsayers.net/wp-content/uploads/2024/10/Youthsayers-Freedom-Funk.jpg
END:VEVENT
END:VCALENDAR